BEGIN:VCALENDAR
VERSION:2.0
PRODID:-//CČSH Třebíč - ECPv6.15.20//NONSGML v1.0//EN
CALSCALE:GREGORIAN
METHOD:PUBLISH
X-WR-CALNAME:CČSH Třebíč
X-ORIGINAL-URL:https://ccshtrebic.cz
X-WR-CALDESC:Akce na CČSH Třebíč
REFRESH-INTERVAL;VALUE=DURATION:PT1H
X-Robots-Tag:noindex
X-PUBLISHED-TTL:PT1H
BEGIN:VTIMEZONE
TZID:Europe/Prague
BEGIN:DAYLIGHT
TZOFFSETFROM:+0100
TZOFFSETTO:+0200
TZNAME:CEST
DTSTART:20220327T010000
END:DAYLIGHT
BEGIN:STANDARD
TZOFFSETFROM:+0200
TZOFFSETTO:+0100
TZNAME:CET
DTSTART:20221030T010000
END:STANDARD
BEGIN:DAYLIGHT
TZOFFSETFROM:+0100
TZOFFSETTO:+0200
TZNAME:CEST
DTSTART:20230326T010000
END:DAYLIGHT
BEGIN:STANDARD
TZOFFSETFROM:+0200
TZOFFSETTO:+0100
TZNAME:CET
DTSTART:20231029T010000
END:STANDARD
BEGIN:DAYLIGHT
TZOFFSETFROM:+0100
TZOFFSETTO:+0200
TZNAME:CEST
DTSTART:20240331T010000
END:DAYLIGHT
BEGIN:STANDARD
TZOFFSETFROM:+0200
TZOFFSETTO:+0100
TZNAME:CET
DTSTART:20241027T010000
END:STANDARD
END:VTIMEZONE
BEGIN:VEVENT
DTSTART;TZID=Europe/Prague:20230524T173000
DTEND;TZID=Europe/Prague:20230524T190000
DTSTAMP:20260423T005618
CREATED:20230520T143157Z
LAST-MODIFIED:20230520T145315Z
UID:418-1684949400-1684954800@ccshtrebic.cz
SUMMARY:Duchovní zpívání
DESCRIPTION:Protáhneme zvukem tělo i ducha. Sladíme se\, zklidníme a zpěvem se uvedeme do stavu modlitby\, s pomocí Boží. \nPerkusní nástroje vítány.
URL:https://ccshtrebic.cz/akce/2023-05-24-zpivani/
LOCATION:Přední synagoga\, Tiché náměstí\, Třebíč\, Česká republika
ATTACH;FMTTYPE=image/jpeg:https://ccshtrebic.cz/wp-content/uploads/2023/05/zpivani-scaled.jpg
ORGANIZER;CN="N%C3%A1bo%C5%BEensk%C3%A1 obec C%C3%ADrkve %C4%8Deskoslovensk%C3%A9 husitsk%C3%A9 v T%C5%99eb%C3%AD%C4%8Di":MAILTO:trebic.ccsh@centrum.cz
END:VEVENT
END:VCALENDAR